Workbook

Sheet Data entry
A1: Number of full time employees | C1: 10
A2: Number of part time employees | C2: 5
A3: Hours worked by part time employees | C3: 5150
A4: Total wages paid (see 1&2 below | C4: 625000
A5: Number of employees electing family | C5: 0
A6: Number of employee only coverage | C6: 10
A7: Total premiums paid family | C7: 0
A8: Total premiums paid employee only | C8: 50500
A9: Employee share of family plan | C9: 0
A10: Employee share of employee only | C10: 0
A11: State average premium employee | C11: 4920 | D11: See revenue ruling 2010-13
A12: State average family premium | C12: 11583 | D12: See revenue ruling 2010-13
A15: 1 Excudes owners, officers and family of owners
A16: 2 Excludes seasonal employees unless employed for more than 120 days

Sheet Credit calculation
A2: Premium amount to be used | C2: =[1]Premiums!C19 -> 49200
A3: Credit % | C3: 0.35
A4: Credit before reductions | C4: =C2*C3 -> 17220
A5: Reduction for > 10 employees | C5: =-ROUND(FTEs!C10*C4,0) -> -2239
A6: Reduction for average wages > $25,000 | C6: =-ROUND(C4*'Wages Paid'!C9,0) -> -18598
A7: Allowable credit | C7: =IF(SUM(C4:C6)>0,SUM(C4:C6),0) -> 0

Sheet FTEs
A2: Total hours worked by part-time employees | C2: ='Data entry'!C3 -> 5150
A3: Divided by | C3: 2080
A4: Full time equivalent employees | C4: =ROUNDDOWN(C2/C3,0) -> 2
A5: Regular full time empoyees | C5: ='Data entry'!C1 -> 10
A6: FTEs for calculation | C6: =C4+C5 -> 12
A8: If greater than 25 stop
A10: Reduction for > 10 FTE | C10: =IF(C6>10,ROUND((FTEs!C6-10)/15,2),0) -> 0.13
A18: 1 Excudes owners, officers and family of owners

Sheet Wages Paid
A3: Wages paid (see 1 & 2 below) | C3: ='Data entry'!C4 -> 625000
A4: FTEs from FTE worksheet | C4: =FTEs!C6 -> 12
A5: Average wage | C5: =ROUND(C3/C4,0) -> 52083
A7: Stop if greater than $50,000
A9: Reduction for average wages > $25,000 | C9: =IF(C5>25000,ROUND((C5-25000)/25000,2),0) -> 1.08

Sheet Premiums
C1: Ind | D1: Family | F1: Total
A2: Total premiums paid | C2: ='Data entry'!C8 -> 50500 | D2: ='Data entry'!C73 -> 0 | F2: =D2+C2 -> 50500
A3: Employer share | C3: =C2-'Data entry'!C10 -> 50500 | D3: =D2-'Data entry'!C9 -> 0 | F3: =D3+C3 -> 50500
C4: =ROUND(C3/C2,2) -> 1 | D4: =ROUND(D3/D2,2) -> #DIV/0! | F4: =ROUND(F3/F2,2) -> 1
A7: Stop if less than 50%
C9: Ind | D9: Family
A10: State average premium | C10: ='Data entry'!C11 -> 4920 | D10: ='Data entry'!C12 -> 11583
A11: Qualifying employees | C11: ='Data entry'!C6 -> 10 | D11: ='Data entry'!C5 -> 0
A12: Average premium | C12: =ROUND(C10*C11,0) -> 49200 | D12: =ROUND(D10*D11,0) -> 0
A14: Total average premium | C14: =C12+D12 -> 49200
A15: Employer % above | C15: =IF(F4<0.5,0,F4) -> 1
A16: Avg premiums | C16: =ROUND(C14*C15,0) -> 49200
A17: Actual premium form above | C17: =C3+D3 -> 50500
A19: Lesser of actual or average | C19: =IF(C16>C17,C17,C16) -> 49200
